BEGIN:VCALENDAR
VERSION:2.0
PRODID:-//wp-events-plugin.com//7.2.3.1//EN
BEGIN:VEVENT
UID:112@trommel-akademie.de
DTSTART;TZID=Europe/Berlin:20260705T100000
DTEND;TZID=Europe/Berlin:20260705T130000
DTSTAMP:20260325T081110Z
URL:https://trommel-akademie.de/events/gruppenseminar-bodnegg-fortgeschrit
 tene-11/
SUMMARY:Gruppenseminar Blisshof Bodnegg Aufbautag
DESCRIPTION:Aufbauseminar\n\nDas Seminar richtet sich an Teilnehmer die ber
 eits etwas Erfahrung haben oder das Anfängerseminar bereits besucht haben
 . Es wird wiederholt\, wir beschäftigen uns mit Puls und rhythmischen Bau
 steinen die wir zu komplexeren Figuren zusammenfügen. Freies Spiel und ne
 ue Anschlagtechniken runden das Seminar ab. Auch zum Wiederauffrischen und
  Spiel in der Gruppe ist dieser Kurs geeignet. Infos zur wunderschönen Lo
 cation auf www.bliss-hof.de
CATEGORIES:Gruppenseminare Bodnegg
LOCATION:Bodnegg\, Widdach 1\, Bodnegg\, 88285\, Deutschland
X-APPLE-STRUCTURED-LOCATION;VALUE=URI;X-ADDRESS=Widdach 1\, Bodnegg\, 88285
 \, Deutschland;X-APPLE-RADIUS=100;X-TITLE=Bodnegg:geo:0,0
END:VEVENT
BEGIN:VTIMEZONE
TZID:Europe/Berlin
X-LIC-LOCATION:Europe/Berlin
BEGIN:DAYLIGHT
DTSTART:20260329T030000
TZOFFSETFROM:+0100
TZOFFSETTO:+0200
TZNAME:CEST
END:DAYLIGHT
END:VTIMEZONE
END:VCALENDAR