BEGIN:VCALENDAR
VERSION:2.0
PRODID:-//wp-events-plugin.com//7.2.3.1//EN
BEGIN:VEVENT
UID:114@trommel-akademie.de
DTSTART;TZID=Europe/Berlin:20260906T100000
DTEND;TZID=Europe/Berlin:20260906T130000
DTSTAMP:20260325T081340Z
URL:https://trommel-akademie.de/events/gruppenseminar-bodnegg-fortgeschrit
 tene-12/
SUMMARY:Gruppenseminar Blisshof Bodnegg Aufbautag
DESCRIPTION:Aufbauseminar\n\nDas Seminar richtet sich an Teilnehmer die ber
 eits etwas Erfahrung an der Handpan mitbringen oder das Anfängerseminar 
  besucht haben. Es wird die perfekte Klanggebung wiederholt\, wir beschäf
 tigen uns mit Puls\, seinen Teilungen und rhythmischen Bausteinen die wir 
 zu komplexeren Figuren zusammenfügen. Freies Spiel und neue Anschlagtechn
 iken runden das Seminar ab. Auch zum Wiederauffrischen und Spiel in der Gr
 uppe ist dieser Kurs geeignet. Infos zur wunderschönen Location auf www.b
 liss-hof.de
CATEGORIES:Gruppenseminare Bodnegg
LOCATION:Bodnegg\, Widdach 1\, Bodnegg\, 88285\, Deutschland
X-APPLE-STRUCTURED-LOCATION;VALUE=URI;X-ADDRESS=Widdach 1\, Bodnegg\, 88285
 \, Deutschland;X-APPLE-RADIUS=100;X-TITLE=Bodnegg:geo:0,0
END:VEVENT
BEGIN:VTIMEZONE
TZID:Europe/Berlin
X-LIC-LOCATION:Europe/Berlin
BEGIN:DAYLIGHT
DTSTART:20260329T030000
TZOFFSETFROM:+0100
TZOFFSETTO:+0200
TZNAME:CEST
END:DAYLIGHT
END:VTIMEZONE
END:VCALENDAR