BEGIN:VCALENDAR
VERSION:2.0
PRODID:-//wp-events-plugin.com//7.2.3.1//EN
BEGIN:VEVENT
UID:124@trommel-akademie.de
DTSTART;TZID=Europe/Berlin:20260531T100000
DTEND;TZID=Europe/Berlin:20260531T130000
DTSTAMP:20260325T081806Z
URL:https://trommel-akademie.de/events/gruppenseminar-leonberg-fortgeschri
 ttene-24/
SUMMARY:Gruppenseminar Leonberg Aufbautag
DESCRIPTION:Aufbauseminar "Rhythmus sortiert den Kopf"\n\n\nDas Seminar ric
 htet sich an Teilnehmer die bereits etwas Erfahrung an der Handpan mitbrin
 gen oder das Anfängerseminar besucht haben. Es wird die perfekte Klanggeb
 ung wiederholt und wir beschäftigen uns mit Puls\, seinen Teilungen und r
 hythmischen Bausteinen die wir zu komplexeren Figuren zusammenfügen. Frei
 es Spiel und neue Anschlagtechniken runden das Seminar ab. Auch zum Wieder
 auffrischen und Spiel in der Gruppe ist dieser Tag geeignet.
CATEGORIES:Gruppenseminare Leonberg
LOCATION:Leonberg\, Röntgenstrasse 2\, Leonberg\, Deutschland
X-APPLE-STRUCTURED-LOCATION;VALUE=URI;X-ADDRESS=Röntgenstrasse 2\, Leonber
 g\, Deutschland;X-APPLE-RADIUS=100;X-TITLE=Leonberg:geo:0,0
END:VEVENT
BEGIN:VTIMEZONE
TZID:Europe/Berlin
X-LIC-LOCATION:Europe/Berlin
BEGIN:DAYLIGHT
DTSTART:20260329T030000
TZOFFSETFROM:+0100
TZOFFSETTO:+0200
TZNAME:CEST
END:DAYLIGHT
END:VTIMEZONE
END:VCALENDAR